BEGIN:VCALENDAR
VERSION:2.0
PRODID:-//Swarm Foundation//Online Workshops//EN
CALSCALE:GREGORIAN
METHOD:PUBLISH
BEGIN:VEVENT
DTSTART:20260318T130000Z
DTEND:20260318T140000Z
SUMMARY:Swarm Workshop: How to Decentralize Any Frontend?
DESCRIPTION:Hands-on workshop by Swarm Foundation.\n\nHost dApps and websites entirely on decentralized infrastructure.\n\nWhat you'll learn:\n• Beeport — web2 rails for Swarm\, upload without running a node\n• Desktop App — your own node for full decentralization\n• Bee light node + Swarm-cli — full terminal control\, scriptable and CI/CD ready\n\nWatch live: https://x.com/i/broadcasts/1nxnRYBNQXkxO\nDiscord support: https://discord.gg/dUS68y87U4
URL:https://x.com/i/broadcasts/1nxnRYBNQXkxO
LOCATION:https://x.com/i/broadcasts/1nxnRYBNQXkxO
STATUS:CONFIRMED
SEQUENCE:0
END:VEVENT
END:VCALENDAR
