BEGIN:VCALENDAR
VERSION:2.0
PRODID:-//Swarm Foundation//Online Workshops//EN
CALSCALE:GREGORIAN
METHOD:PUBLISH
BEGIN:VEVENT
DTSTART:20260401T120000Z
DTEND:20260401T130000Z
SUMMARY:Swarm Workshop: Make Your AI Agent Decentralized with Swarm
DESCRIPTION:Hands-on workshop by Swarm Foundation.\n\nFully off-chain\, autonomous & censorship-resistant.\n\nWhat you'll learn:\n• Equip Your Agent — connect an AI tool to Swarm's unstoppable storage for decentralized "memory"\n• Swarm MCP — a native decentralized data layer for your agent\n• Autonomous — no single point of failure\, fully off-chain\n\nWatch live: https://x.com/i/broadcasts/1yKAPMwDmvqxb\nDiscord support: https://discord.gg/dUS68y87U4
URL:https://x.com/i/broadcasts/1yKAPMwDmvqxb
LOCATION:https://x.com/i/broadcasts/1yKAPMwDmvqxb
STATUS:CONFIRMED
SEQUENCE:0
END:VEVENT
END:VCALENDAR
